View In:
ArcGIS JavaScript
ArcGIS Online Map Viewer
ArcGIS Earth
ArcGIS Pro
Service Description: <div style='text-align:Left;'><div><p><span>City of Arlington BaseMap used in Cartegraph OMS</span></p></div></div>
Map Name: CGBMPKSForestry
Legend
All Layers and Tables
Dynamic Legend
Dynamic All Layers
Layers:
Description: City of Arlington BaseMap used in Cartegraph OMS
Copyright Text: City of Arlington TX
Spatial Reference:
102100
(3857)
LatestVCSWkid(0)
Single Fused Map Cache: true
Tile Info:
- Height: 256
- Width: 256
- DPI: 96
-
Levels of Detail: 24
-
Level ID: 1
[ Start Tile, End Tile ]
- Resolution: 78271.5169639999
- Scale: 2.95828763795777E8
-
Level ID: 2
[ Start Tile, End Tile ]
- Resolution: 39135.7584820001
- Scale: 1.47914381897889E8
-
Level ID: 3
[ Start Tile, End Tile ]
- Resolution: 19567.8792409999
- Scale: 7.3957190948944E7
-
Level ID: 4
[ Start Tile, End Tile ]
- Resolution: 9783.93962049996
- Scale: 3.6978595474472E7
-
Level ID: 5
[ Start Tile, End Tile ]
- Resolution: 4891.96981024998
- Scale: 1.8489297737236E7
- Format: Mixed
- Compression Quality: 75.0
- Origin: X: -2.0037508342787E7
Y: 2.0037508342787E7
- Spatial Reference: 102100
(3857)
LatestVCSWkid(0)
Storage Info:
- Storage Format: esriMapCacheStorageModeCompactV2
- Packet Size: 128
Initial Extent:
XMin: -1.0833676670828544E7
YMin: 3837137.0695279785
XMax: -1.0792733740017317E7
YMax: 3874637.4893405023
Spatial Reference: 102100
(0)
LatestVCSWkid(0)
Full Extent:
XMin: -1.082671512305628E7
YMin: 3839494.545132108
XMax: -1.0799980340323132E7
YMax: 3872397.9003560985
Spatial Reference: 102100
(0)
LatestVCSWkid(0)
Units: esriMeters
Supported Image Format Types: PNG32,PNG24,PNG,JPG,DIB,TIFF,EMF,PS,PDF,GIF,SVG,SVGZ,BMP
Document Info:
Title: Cartegraph BaseMap Parks Forestry
Author:
Comments: City of Arlington BaseMap used in Cartegraph OMS
Subject: City of Arlington Cartegraph BaseMap For Parks Forestry
Category:
Keywords: Cartegraph,Parks,BaseMap,Forestry,Pavement,Municipal Boundary,Management Areas,Road,Orthophoto
AntialiasingMode: Fast
TextAntialiasingMode: Force
Supports Dynamic Layers: true
MaxRecordCount: 2000
MaxImageHeight: 4096
MaxImageWidth: 4096
Supported Query Formats: JSON, geoJSON, PBF
Supports Query Data Elements: true
Min Scale: 288895.277144
Max Scale: 564.248588
Min LOD: 11
Max LOD: 20
Supports Datum Transformation: true
Child Resources:
Info
Dynamic Layer
Supported Operations:
Export Map
Identify
QueryLegends
QueryDomains
Find
Return Updates